BEGIN:VCALENDAR
VERSION:2.0
PRODID:-//Amor - ECPv6.15.12.2//NONSGML v1.0//EN
CALSCALE:GREGORIAN
METHOD:PUBLISH
X-WR-CALNAME:Amor
X-ORIGINAL-URL:https://amor-catering.de
X-WR-CALDESC:Events for Amor
REFRESH-INTERVAL;VALUE=DURATION:PT1H
X-Robots-Tag:noindex
X-PUBLISHED-TTL:PT1H
BEGIN:VTIMEZONE
TZID:UTC
BEGIN:STANDARD
TZOFFSETFROM:+0000
TZOFFSETTO:+0000
TZNAME:UTC
DTSTART:20240101T000000
END:STANDARD
END:VTIMEZONE
BEGIN:VEVENT
DTSTART;VALUE=DATE:20250101
DTEND;VALUE=DATE:20260101
DTSTAMP:20260426T041646
CREATED:20240312T172840Z
LAST-MODIFIED:20250615T201744Z
UID:54767-1735689600-1767225599@amor-catering.de
SUMMARY:Viktualienmarkt Tasting Tour
DESCRIPTION:  \nViktualienmarkt Tasting Tour – Geführte kulinarische Tour durch Münchens berühmtesten Markt \n📍 Viktualienmarkt\, München\n🍅🍺 Der Viktualienmarkt ist Münchens ältester und bekanntester Lebensmittelmarkt mitten in der Innenstadt. Hier trifft man auf ein buntes Treiben aus frischen regionalen Produkten\, bayerischen Spezialitäten\, edlen Delikatessen und traditionellen Bierständen. \nWas erwartet dich bei der Tour?\nBei dieser geführten Tasting-Tour entdeckst du die Vielfalt und Geschichte des Viktualienmarktes – mit vielen spannenden Anekdoten zur bayerischen Esskultur. Unterwegs probierst du typische Schmankerl wie: \n\nFrisch gebackene Brezen 🥨\nVerschiedene Käsesorten 🧀\nHausgemachte Wurst- und Fleischwaren\nBayerische Bier-Spezialitäten 🍻\nSaisonales Obst und Gemüse\nSüße Leckereien wie Lebkuchen oder Obstkuchen\n\nDer Guide erzählt außerdem viel Wissenswertes zu den einzelnen Marktständen und deren Produzenten. \nDauer & Termine \n\nDauer: ca. 2\,5 Stunden\nTermine: mehrmals wöchentlich\, je nach Saison (Frühling bis Herbst besonders beliebt)\n\nPreise \n\nErwachsene: ca. 45–50 € pro Person\nKinder meist ermäßigt oder frei (je nach Anbieter)\n\nTickets & Buchung\nDie Plätze sind begrenzt und oft schnell ausgebucht – eine frühzeitige Reservierung wird empfohlen. Tickets gibt es online auf der offiziellen Seite oder bei verschiedenen Tourveranstaltern in München. \nWarum lohnt sich die Viktualienmarkt Tasting Tour? \n\nAuthentischer Einblick in die bayerische Genusskultur\nProbieren statt nur Anschauen: Echte Schmankerl aus erster Hand\nSpannende Geschichten rund um Münchens kulinarisches Herz\nPerfekt für Foodies\, Touristen und alle\, die München mal anders erleben wollen\n\n\nDie Viktualienmarkt Tasting Tour in München findet wöchentlich dienstags\, donnerstags\, freitags und samstagsstatt. Die Tour beginnt um 11:00 Uhr und dauert etwa 2 Stunden. Sie ist von März bis Oktober verfügbar. Der Treffpunkt ist am Fischbrunnen auf dem Marienplatz. Die Tour wird auf Deutsch durchgeführt. Bitte beachte\, dass die Plätze begrenzt sind und eine frühzeitige Reservierung empfohlen wird. Kinder unter 6 Jahren können leider nicht teilnehmen\, da es sich um eine Weinverkostung handelt.
URL:https://amor-catering.de/event/vikualienmarktviktualienmarkt-tasting-tour/
LOCATION:munich\, munich\, munich\, Germany
CATEGORIES:August 2025,JULI 2025,June 2025,NOVEMBER 2025,OKTOBER 2025,SEPTEMBER 2025
ATTACH;FMTTYPE=image/jpeg:https://amor-catering.de/wp-content/uploads/2024/03/geschichten-muenchen-bierbrauerinnen-8869-foto-frank-stolle-3000x2000-1.jpg
END:VEVENT
BEGIN:VEVENT
DTSTART;TZID=UTC:20250919T190000
DTEND;TZID=UTC:20250919T233000
DTSTAMP:20260426T041646
CREATED:20250819T184000Z
LAST-MODIFIED:20250820T132226Z
UID:63166-1758308400-1758324600@amor-catering.de
SUMMARY:Social Dining: Secret Supper – Bayern meets Westafrika (München) (19.09.2025)
DESCRIPTION:Exklusives 4-Gänge-Dinner an einer geheimen Location in München.\nPro Termin nur 6 Plätze\, ein gemeinsamer Tisch\, feste Startzeit. Die Adresse\nerhältst Du 24 Stunden vor dem Event.\nWas Dich erwartet\n– Festes 4-Gänge-Menü von Amor Catering gekocht von einem Münchner\nSpitzenkoch\n– Thema des Abends: Bayern meets Westafrika\n– Inklusive Fingerfood Ankommen\, Amuse-Bouche und Petit Fours sowie\nWasser\n– Dauer: ca. 2\,5 – 3 Stunden\n– Einlass 18:30\, Start 19:00\nMenü:\nBotoque | Avocado | Schwarzer Knoblauch | Galgant\nAncelin Auster | Gurkenwasser | Fenchel | Berbere | Gin\nRäucherforelle | Erdapfel | Kochbanane |Schnittlauch | Weißbrot\nJochen Gaues Sauerteigbrot | Süßrahmbutter | Chutney aus togolesischen\nPeperoni\nNiébé\nGarri | Onzenei | Nussbutter | Ebesese \nThunfisch\nWassermelone | Kaffirlimette | Kaviar | Rettich | Tomatensud | Baobab & TaroWurzel\nEnte & Maishuhn\nFufu | Pfifferlinge | Perlzwiebeln | Petersilie | Okra & Fragrant Mala Creme Jus\nGâteau Karamell\nNashi-Birne | Vanille | Kolanüsse | Trüffel | Pisco\nPreis\n– 99 € pro Person (Menü inkl. Fingerfood\, Amuse-Bouche\, Petit Fours &\nWasser)\n– Optionale Weinbegleitung: +50 € p. P. \nUnser Konzept\n– Kuratiertes Social Dining im Mikro-Format: 6 Gäste\, ein Tisch\, ein Menü\n– Präzise Abläufe: fester Ansprechpartner\, pünktiger Service\, klare\nKommunikation\n– Saisonal-regional gedacht\, mit pointierten internationalen Akzenten –\nkompromisslos in Qualität und Hygiene\nGut zu wissen\n– Festes Menü; Allergien/Unverträglichkeiten bitte bei der Buchung angeben\n(spätestens 48 Std. vorher)\n– Exakte Adresse und Check-in-Details nach der Buchung\n– Umbuchung/Storno gemäß Fever-Richtlinien\n– Ab 18 Jahren
URL:https://amor-catering.de/event/social-dining-secret-supper-bayern-meets-westafrika-munchen-19-09-2025/
LOCATION:munich\, munich\, munich\, Germany
CATEGORIES:Every Friday
ATTACH;FMTTYPE=image/jpeg:https://amor-catering.de/wp-content/uploads/2023/05/Jellyfish_11-21_Food_300dpi_037-min-scaled.jpg
END:VEVENT
BEGIN:VEVENT
DTSTART;TZID=UTC:20251003T190000
DTEND;TZID=UTC:20251003T190000
DTSTAMP:20260426T041646
CREATED:20250819T184145Z
LAST-MODIFIED:20250820T132132Z
UID:63168-1759518000-1759518000@amor-catering.de
SUMMARY:Social Dining: Secret Supper – Bayern meets Westafrika (München) (03.10.2025)
DESCRIPTION:Exklusives 4-Gänge-Dinner an einer geheimen Location in München.\nPro Termin nur 6 Plätze\, ein gemeinsamer Tisch\, feste Startzeit. Die Adresse\nerhältst Du 24 Stunden vor dem Event.\nWas Dich erwartet\n– Festes 4-Gänge-Menü von Amor Catering gekocht von einem Münchner\nSpitzenkoch\n– Thema des Abends: Bayern meets Westafrika\n– Inklusive Fingerfood Ankommen\, Amuse-Bouche und Petit Fours sowie\nWasser\n– Dauer: ca. 2\,5 – 3 Stunden\n– Einlass 18:30\, Start 19:00\nMenü:\nBotoque | Avocado | Schwarzer Knoblauch | Galgant\nAncelin Auster | Gurkenwasser | Fenchel | Berbere | Gin\nRäucherforelle | Erdapfel | Kochbanane |Schnittlauch | Weißbrot\nJochen Gaues Sauerteigbrot | Süßrahmbutter | Chutney aus togolesischen\nPeperoni\nNiébé\nGarri | Onzenei | Nussbutter | Ebesese \nThunfisch\nWassermelone | Kaffirlimette | Kaviar | Rettich | Tomatensud | Baobab & TaroWurzel\nEnte & Maishuhn\nFufu | Pfifferlinge | Perlzwiebeln | Petersilie | Okra & Fragrant Mala Creme Jus\nGâteau Karamell\nNashi-Birne | Vanille | Kolanüsse | Trüffel | Pisco\nPreis\n– 99 € pro Person (Menü inkl. Fingerfood\, Amuse-Bouche\, Petit Fours &\nWasser)\n– Optionale Weinbegleitung: +50 € p. P. \nUnser Konzept\n– Kuratiertes Social Dining im Mikro-Format: 6 Gäste\, ein Tisch\, ein Menü\n– Präzise Abläufe: fester Ansprechpartner\, pünktiger Service\, klare\nKommunikation\n– Saisonal-regional gedacht\, mit pointierten internationalen Akzenten –\nkompromisslos in Qualität und Hygiene\nGut zu wissen\n– Festes Menü; Allergien/Unverträglichkeiten bitte bei der Buchung angeben\n(spätestens 48 Std. vorher)\n– Exakte Adresse und Check-in-Details nach der Buchung\n– Umbuchung/Storno gemäß Fever-Richtlinien\n– Ab 18 Jahren
URL:https://amor-catering.de/event/social-dining-secret-supper-bayern-meets-westafrika-munchen-03-10-2025/
LOCATION:munich\, munich\, munich\, Germany
CATEGORIES:Every Friday
ATTACH;FMTTYPE=image/jpeg:https://amor-catering.de/wp-content/uploads/2025/06/DSC_3199-scaled.jpg
END:VEVENT
BEGIN:VEVENT
DTSTART;TZID=UTC:20251017T190000
DTEND;TZID=UTC:20251017T233000
DTSTAMP:20260426T041646
CREATED:20250819T184328Z
LAST-MODIFIED:20250820T131841Z
UID:63170-1760727600-1760743800@amor-catering.de
SUMMARY:Social Dining: Secret Supper – Bayern meets Westafrika (München) (17.10.2025)
DESCRIPTION:Exklusives 4-Gänge-Dinner an einer geheimen Location in München.\nPro Termin nur 6 Plätze\, ein gemeinsamer Tisch\, feste Startzeit. Die Adresse\nerhältst Du 24 Stunden vor dem Event.\nWas Dich erwartet\n– Festes 4-Gänge-Menü von Amor Catering gekocht von einem Münchner\nSpitzenkoch\n– Thema des Abends: Bayern meets Westafrika\n– Inklusive Fingerfood Ankommen\, Amuse-Bouche und Petit Fours sowie\nWasser\n– Dauer: ca. 2\,5 – 3 Stunden\n– Einlass 18:30\, Start 19:00\nMenü:\nBotoque | Avocado | Schwarzer Knoblauch | Galgant\nAncelin Auster | Gurkenwasser | Fenchel | Berbere | Gin\nRäucherforelle | Erdapfel | Kochbanane |Schnittlauch | Weißbrot\nJochen Gaues Sauerteigbrot | Süßrahmbutter | Chutney aus togolesischen\nPeperoni\nNiébé\nGarri | Onzenei | Nussbutter | Ebesese \nThunfisch\nWassermelone | Kaffirlimette | Kaviar | Rettich | Tomatensud | Baobab & TaroWurzel\nEnte & Maishuhn\nFufu | Pfifferlinge | Perlzwiebeln | Petersilie | Okra & Fragrant Mala Creme Jus\nGâteau Karamell\nNashi-Birne | Vanille | Kolanüsse | Trüffel | Pisco\nPreis\n– 99 € pro Person (Menü inkl. Fingerfood\, Amuse-Bouche\, Petit Fours &\nWasser)\n– Optionale Weinbegleitung: +50 € p. P. \nUnser Konzept\n– Kuratiertes Social Dining im Mikro-Format: 6 Gäste\, ein Tisch\, ein Menü\n– Präzise Abläufe: fester Ansprechpartner\, pünktiger Service\, klare\nKommunikation\n– Saisonal-regional gedacht\, mit pointierten internationalen Akzenten –\nkompromisslos in Qualität und Hygiene\nGut zu wissen\n– Festes Menü; Allergien/Unverträglichkeiten bitte bei der Buchung angeben\n(spätestens 48 Std. vorher)\n– Exakte Adresse und Check-in-Details nach der Buchung\n– Umbuchung/Storno gemäß Fever-Richtlinien\n– Ab 18 Jahren
URL:https://amor-catering.de/event/social-dining-secret-supper-bayern-meets-westafrika-munchen-17-10-2025/
LOCATION:munich\, munich\, munich\, Germany
CATEGORIES:Every Friday
ATTACH;FMTTYPE=image/jpeg:https://amor-catering.de/wp-content/uploads/2023/05/Jellyfish_11-21_Food_300dpi_001-min-scaled.jpg
END:VEVENT
BEGIN:VEVENT
DTSTART;VALUE=DATE:20251107
DTEND;VALUE=DATE:20251108
DTSTAMP:20260426T041646
CREATED:20240312T171224Z
LAST-MODIFIED:20250615T201952Z
UID:54746-1762473600-1762559999@amor-catering.de
SUMMARY:Belle Macchine @BMW Museum
DESCRIPTION:Belle Macchine – Italienisches Automobildesign im BMW Museum\n📍 BMW Museum\, München📅 Ab 7. Juni 2025 \nItalienisches Design trifft deutsche Ingenieurskunst: Die Ausstellung „Belle Macchine“ zeigt eindrucksvoll\, wie die italienische Karosseriebaukultur die Ästhetik und Formensprache der BMW-Modelle über Jahrzehnte hinweg beeinflusst hat. \nErlebe exklusive Exponate\, einzigartige Designs und faszinierende Geschichten rund um die Verbindung zweier traditionsreicher Automobilwelten. \n👉 Tipp von Amor Catering:Ideal für Eventplaner und Autoliebhaber! Gerne unterstützen wir dich dabei\, deinen Besuch mit exklusiven Führungen oder Gruppenangeboten zu einem besonderen Erlebnis zu machen. \n🎟️ Tickets & Infos:www.bmw-welt.com
URL:https://amor-catering.de/event/belle-macchine/
LOCATION:@BMW Museum\, München\, Germany
CATEGORIES:NOVEMBER 2025
ATTACH;FMTTYPE=image/webp:https://amor-catering.de/wp-content/uploads/2024/03/BelleMacchineHeader_16to7.webp
ORGANIZER;CN="Peter Bowman":MAILTO:peterbowman@example.com
END:VEVENT
BEGIN:VEVENT
DTSTART;VALUE=DATE:20251112
DTEND;VALUE=DATE:20251117
DTSTAMP:20260426T041646
CREATED:20240312T171318Z
LAST-MODIFIED:20250615T201314Z
UID:54747-1762905600-1763337599@amor-catering.de
SUMMARY:FOOD & LIFE Messe
DESCRIPTION:FOOD & LIFE Messe – Genuss trifft Inspiration\n📍 Messe München📅 12. – 16. November 2025 \nDie FOOD & LIFE ist Münchens führende Messe rund ums Genießen\, Kochen und bewussten Lebensstil. Hier treffen sich Foodies\, Spitzenköche\, Produzenten und Gastro-Profis\, um die neuesten Trends zu entdecken – von nachhaltigen Produkten bis hin zu innovativen Genussideen. \nWas dich erwartet: \n\n\nExklusive Verkostungen & neue Geschmackserlebnisse \n\n\nLive-Kochshows & interaktive Workshops \n\n\nProdukte von kleinen Manufakturen\, Start-ups & regionalen Produzenten \n\n\nVorträge rund um Ernährung\, Nachhaltigkeit und kulinarische Trends \n\n\n🎟️ Tickets: Noch verfügbar über den offiziellen Ticketshop der Messe🌐 food-life.de \n👉 Tipp von Amor Catering:Du bist Veranstalter\, Gastronom oder planst ein kulinarisches Projekt? Wir helfen gerne\, einen eigenen Stand auf der FOOD & LIFE zu organisieren oder exklusive Führungen für Teams oder Kunden zu ermöglichen. Sprich uns einfach an – wir haben die richtigen Kontakte vor Ort.
URL:https://amor-catering.de/event/food-life-messe/
LOCATION:Munich Trade Fair\, Gas station at the Munich Trade Fair Center Otto-Perutz-Straße 1\, 81829\, munich\, Germany
CATEGORIES:NOVEMBER 2025
ATTACH;FMTTYPE=image/jpeg:https://amor-catering.de/wp-content/uploads/2022/03/csm_FL_Presse_tp_5460_39e0d5626a.jpg
END:VEVENT
BEGIN:VEVENT
DTSTART;TZID=UTC:20251114T190000
DTEND;TZID=UTC:20251114T233000
DTSTAMP:20260426T041646
CREATED:20250819T184534Z
LAST-MODIFIED:20250820T131941Z
UID:63172-1763146800-1763163000@amor-catering.de
SUMMARY:Social Dining: Secret Supper – Bayern meets Westafrika (München) (14.11.2025)
DESCRIPTION:Exklusives 4-Gänge-Dinner an einer geheimen Location in München.\nPro Termin nur 6 Plätze\, ein gemeinsamer Tisch\, feste Startzeit. Die Adresse\nerhältst Du 24 Stunden vor dem Event.\nWas Dich erwartet\n– Festes 4-Gänge-Menü von Amor Catering gekocht von einem Münchner\nSpitzenkoch\n– Thema des Abends: Bayern meets Westafrika\n– Inklusive Fingerfood Ankommen\, Amuse-Bouche und Petit Fours sowie\nWasser\n– Dauer: ca. 2\,5 – 3 Stunden\n– Einlass 18:30\, Start 19:00\nMenü:\nBotoque | Avocado | Schwarzer Knoblauch | Galgant\nAncelin Auster | Gurkenwasser | Fenchel | Berbere | Gin\nRäucherforelle | Erdapfel | Kochbanane |Schnittlauch | Weißbrot\nJochen Gaues Sauerteigbrot | Süßrahmbutter | Chutney aus togolesischen\nPeperoni\nNiébé\nGarri | Onzenei | Nussbutter | Ebesese \nThunfisch\nWassermelone | Kaffirlimette | Kaviar | Rettich | Tomatensud | Baobab & TaroWurzel\nEnte & Maishuhn\nFufu | Pfifferlinge | Perlzwiebeln | Petersilie | Okra & Fragrant Mala Creme Jus\nGâteau Karamell\nNashi-Birne | Vanille | Kolanüsse | Trüffel | Pisco\nPreis\n– 99 € pro Person (Menü inkl. Fingerfood\, Amuse-Bouche\, Petit Fours &\nWasser)\n– Optionale Weinbegleitung: +50 € p. P. \nUnser Konzept\n– Kuratiertes Social Dining im Mikro-Format: 6 Gäste\, ein Tisch\, ein Menü\n– Präzise Abläufe: fester Ansprechpartner\, pünktiger Service\, klare\nKommunikation\n– Saisonal-regional gedacht\, mit pointierten internationalen Akzenten –\nkompromisslos in Qualität und Hygiene\nGut zu wissen\n– Festes Menü; Allergien/Unverträglichkeiten bitte bei der Buchung angeben\n(spätestens 48 Std. vorher)\n– Exakte Adresse und Check-in-Details nach der Buchung\n– Umbuchung/Storno gemäß Fever-Richtlinien\n– Ab 18 Jahren
URL:https://amor-catering.de/event/social-dining-secret-supper-bayern-meets-westafrika-munchen-14-11-2025/
LOCATION:munich\, munich\, munich\, Germany
CATEGORIES:Every Friday
ATTACH;FMTTYPE=image/jpeg:https://amor-catering.de/wp-content/uploads/2023/05/Jellyfish_11-21_Food_300dpi_015-min-scaled.jpg
END:VEVENT
BEGIN:VEVENT
DTSTART;TZID=UTC:20251128T190000
DTEND;TZID=UTC:20251128T190000
DTSTAMP:20260426T041646
CREATED:20250819T184706Z
LAST-MODIFIED:20250820T132417Z
UID:63175-1764356400-1764356400@amor-catering.de
SUMMARY:Social Dining: Secret Supper – Bayern meets Westafrika (München) (28.11.2025)
DESCRIPTION:Exklusives 4-Gänge-Dinner an einer geheimen Location in München.\nPro Termin nur 6 Plätze\, ein gemeinsamer Tisch\, feste Startzeit. Die Adresse\nerhältst Du 24 Stunden vor dem Event.\nWas Dich erwartet\n– Festes 4-Gänge-Menü von Amor Catering gekocht von einem Münchner\nSpitzenkoch\n– Thema des Abends: Bayern meets Westafrika\n– Inklusive Fingerfood Ankommen\, Amuse-Bouche und Petit Fours sowie\nWasser\n– Dauer: ca. 2\,5 – 3 Stunden\n– Einlass 18:30\, Start 19:00\nMenü:\nBotoque | Avocado | Schwarzer Knoblauch | Galgant\nAncelin Auster | Gurkenwasser | Fenchel | Berbere | Gin\nRäucherforelle | Erdapfel | Kochbanane |Schnittlauch | Weißbrot\nJochen Gaues Sauerteigbrot | Süßrahmbutter | Chutney aus togolesischen\nPeperoni\nNiébé\nGarri | Onzenei | Nussbutter | Ebesese \nThunfisch\nWassermelone | Kaffirlimette | Kaviar | Rettich | Tomatensud | Baobab & TaroWurzel\nEnte & Maishuhn\nFufu | Pfifferlinge | Perlzwiebeln | Petersilie | Okra & Fragrant Mala Creme Jus\nGâteau Karamell\nNashi-Birne | Vanille | Kolanüsse | Trüffel | Pisco\nPreis\n– 99 € pro Person (Menü inkl. Fingerfood\, Amuse-Bouche\, Petit Fours &\nWasser)\n– Optionale Weinbegleitung: +50 € p. P. \nUnser Konzept\n– Kuratiertes Social Dining im Mikro-Format: 6 Gäste\, ein Tisch\, ein Menü\n– Präzise Abläufe: fester Ansprechpartner\, pünktiger Service\, klare\nKommunikation\n– Saisonal-regional gedacht\, mit pointierten internationalen Akzenten –\nkompromisslos in Qualität und Hygiene\nGut zu wissen\n– Festes Menü; Allergien/Unverträglichkeiten bitte bei der Buchung angeben\n(spätestens 48 Std. vorher)\n– Exakte Adresse und Check-in-Details nach der Buchung\n– Umbuchung/Storno gemäß Fever-Richtlinien\n– Ab 18 Jahren
URL:https://amor-catering.de/event/social-dining-secret-supper-bayern-meets-westafrika-munchen-28-11-2025/
LOCATION:munich\, munich\, munich\, Germany
CATEGORIES:Every Friday
ATTACH;FMTTYPE=image/jpeg:https://amor-catering.de/wp-content/uploads/2023/05/Jellyfish_11-21_Food_300dpi_010-min-scaled.jpg
END:VEVENT
END:VCALENDAR