BEGIN:VCALENDAR
VERSION:2.0
PRODID:-//Amor - ECPv6.15.12.2//NONSGML v1.0//EN
CALSCALE:GREGORIAN
METHOD:PUBLISH
X-WR-CALNAME:Amor
X-ORIGINAL-URL:https://amor-catering.de
X-WR-CALDESC:Events for Amor
REFRESH-INTERVAL;VALUE=DURATION:PT1H
X-Robots-Tag:noindex
X-PUBLISHED-TTL:PT1H
BEGIN:VTIMEZONE
TZID:UTC
BEGIN:STANDARD
TZOFFSETFROM:+0000
TZOFFSETTO:+0000
TZNAME:UTC
DTSTART:20240101T000000
END:STANDARD
END:VTIMEZONE
BEGIN:VEVENT
DTSTART;VALUE=DATE:20250101
DTEND;VALUE=DATE:20260101
DTSTAMP:20260422T022256
CREATED:20240312T172840Z
LAST-MODIFIED:20250615T201744Z
UID:54767-1735689600-1767225599@amor-catering.de
SUMMARY:Viktualienmarkt Tasting Tour
DESCRIPTION:  \nViktualienmarkt Tasting Tour – Geführte kulinarische Tour durch Münchens berühmtesten Markt \n📍 Viktualienmarkt\, München\n🍅🍺 Der Viktualienmarkt ist Münchens ältester und bekanntester Lebensmittelmarkt mitten in der Innenstadt. Hier trifft man auf ein buntes Treiben aus frischen regionalen Produkten\, bayerischen Spezialitäten\, edlen Delikatessen und traditionellen Bierständen. \nWas erwartet dich bei der Tour?\nBei dieser geführten Tasting-Tour entdeckst du die Vielfalt und Geschichte des Viktualienmarktes – mit vielen spannenden Anekdoten zur bayerischen Esskultur. Unterwegs probierst du typische Schmankerl wie: \n\nFrisch gebackene Brezen 🥨\nVerschiedene Käsesorten 🧀\nHausgemachte Wurst- und Fleischwaren\nBayerische Bier-Spezialitäten 🍻\nSaisonales Obst und Gemüse\nSüße Leckereien wie Lebkuchen oder Obstkuchen\n\nDer Guide erzählt außerdem viel Wissenswertes zu den einzelnen Marktständen und deren Produzenten. \nDauer & Termine \n\nDauer: ca. 2\,5 Stunden\nTermine: mehrmals wöchentlich\, je nach Saison (Frühling bis Herbst besonders beliebt)\n\nPreise \n\nErwachsene: ca. 45–50 € pro Person\nKinder meist ermäßigt oder frei (je nach Anbieter)\n\nTickets & Buchung\nDie Plätze sind begrenzt und oft schnell ausgebucht – eine frühzeitige Reservierung wird empfohlen. Tickets gibt es online auf der offiziellen Seite oder bei verschiedenen Tourveranstaltern in München. \nWarum lohnt sich die Viktualienmarkt Tasting Tour? \n\nAuthentischer Einblick in die bayerische Genusskultur\nProbieren statt nur Anschauen: Echte Schmankerl aus erster Hand\nSpannende Geschichten rund um Münchens kulinarisches Herz\nPerfekt für Foodies\, Touristen und alle\, die München mal anders erleben wollen\n\n\nDie Viktualienmarkt Tasting Tour in München findet wöchentlich dienstags\, donnerstags\, freitags und samstagsstatt. Die Tour beginnt um 11:00 Uhr und dauert etwa 2 Stunden. Sie ist von März bis Oktober verfügbar. Der Treffpunkt ist am Fischbrunnen auf dem Marienplatz. Die Tour wird auf Deutsch durchgeführt. Bitte beachte\, dass die Plätze begrenzt sind und eine frühzeitige Reservierung empfohlen wird. Kinder unter 6 Jahren können leider nicht teilnehmen\, da es sich um eine Weinverkostung handelt.
URL:https://amor-catering.de/event/vikualienmarktviktualienmarkt-tasting-tour/
LOCATION:munich\, munich\, munich\, Germany
CATEGORIES:August 2025,JULI 2025,June 2025,NOVEMBER 2025,OKTOBER 2025,SEPTEMBER 2025
ATTACH;FMTTYPE=image/jpeg:https://amor-catering.de/wp-content/uploads/2024/03/geschichten-muenchen-bierbrauerinnen-8869-foto-frank-stolle-3000x2000-1.jpg
END:VEVENT
END:VCALENDAR