BEGIN:VCALENDAR
VERSION:2.0
PRODID:-//Amor - ECPv6.15.12.2//NONSGML v1.0//EN
CALSCALE:GREGORIAN
METHOD:PUBLISH
X-ORIGINAL-URL:https://amor-catering.de
X-WR-CALDESC:Events for Amor
REFRESH-INTERVAL;VALUE=DURATION:PT1H
X-Robots-Tag:noindex
X-PUBLISHED-TTL:PT1H
BEGIN:VTIMEZONE
TZID:UTC
BEGIN:STANDARD
TZOFFSETFROM:+0000
TZOFFSETTO:+0000
TZNAME:UTC
DTSTART:20230101T000000
END:STANDARD
END:VTIMEZONE
BEGIN:VEVENT
DTSTART;VALUE=DATE:20251124
DTEND;VALUE=DATE:20251225
DTSTAMP:20260421T174029
CREATED:20240308T144620Z
LAST-MODIFIED:20250613T090456Z
UID:54277-1763942400-1766620799@amor-catering.de
SUMMARY:Christkindlmarkt Marienplatz
DESCRIPTION:Christkindlmarkt am Marienplatz – Münchens Klassiker\n📍 Marienplatz\, München Innenstadt📅 24. November – 24. Dezember \nDer Christkindlmarkt am Marienplatz ist der bekannteste und traditionsreichste Weihnachtsmarkt in München – ein festlicher Treffpunkt mitten im Herzen der Stadt. Zwischen Rathaus\, Weihnachtsbaum und kunstvoll geschmückten Ständen herrscht echtes Vorweihnachtsflair. \nWas dich erwartet: \n\n\nÜber 100 festlich dekorierte Buden mit Kunsthandwerk & Geschenken \n\n\nGlühwein\, Bratwurst\, gebrannte Mandeln & bayerische Schmankerl \n\n\nWunderschöne Weihnachtstassen (mit Pfand\, aber zum Mitnehmen möglich) \n\n\nStimmungsvolle Beleuchtung & Musik direkt vor dem Rathaus \n\n\n👉 Tipp von Amor Catering: Ideal für Gäste von auswärts oder als krönender Abschluss eines winterlichen Teamevents – zentral\, charmant\, klassisch. \n🎟️ Eintritt: Kostenlos
URL:https://amor-catering.de/event/christkindlmarkt-marienplatz/
LOCATION:Marienplatz\, munich\, Germany
CATEGORIES:DEZEMBER 2025
ATTACH;FMTTYPE=image/jpeg:https://amor-catering.de/wp-content/uploads/2024/03/Best-Munich-Christmas-Markets-Photo-1536x809.jpg.optimal.jpg
END:VEVENT
BEGIN:VEVENT
DTSTART;VALUE=DATE:20251202
DTEND;VALUE=DATE:20251224
DTSTAMP:20260421T174029
CREATED:20240308T144138Z
LAST-MODIFIED:20250708T195317Z
UID:54276-1764633600-1766534399@amor-catering.de
SUMMARY:Tollwood Winterfestival
DESCRIPTION:Tollwood Winterfestival – Kultur trifft Winterzauber\n📍 Theresienwiese\, München📅 Jährlich ab Anfang Dezember bis Silvester \nDas Tollwood Winterfestival verwandelt die Theresienwiese jedes Jahr ab Dezember in ein buntes Winterwunderland mit Musik\, Theater\, Kunst und einem besonderen Weihnachtsmarkt. Unter dem Motto Kultur & Umweltbewusstsein bietet das Festival eine einmalige Mischung aus internationalen Shows\, ökologischer Gastronomie und handverlesenem Kunsthandwerk. \nWas erwartet dich: \n\n\nLive-Musik & Theater in beheizten Zelten \n\n\nNachhaltiger Weihnachtsmarkt mit Kunsthandwerk \n\n\nBio-zertifiziertes Streetfood & internationale Küche \n\n\nAktionen rund um Umwelt\, Tier- und Klimaschutz \n\n\nEin Highlight für alle\, die Kultur lieben – und bewusst genießen möchten. Der Eintritt zu vielen Programmpunkten ist kostenlos! \n👉 Tipp von Amor: Ideal für einen vorweihnachtlichen Ausflug mit Kolleg:innen oder Freunden – Genuss\, Inspiration und Stimmung garantiert!
URL:https://amor-catering.de/event/tollwoodwinter/
LOCATION:Theresienwiese\, munich\, Germany
CATEGORIES:DEZEMBER 2025
ATTACH;FMTTYPE=image/webp:https://amor-catering.de/wp-content/uploads/2024/03/barnowl-walkact-tollwood-wife-c-thingumajig-theatre-1280x400-1.webp
END:VEVENT
BEGIN:VEVENT
DTSTART;VALUE=DATE:20251018
DTEND;VALUE=DATE:20251019
DTSTAMP:20260421T174029
CREATED:20240308T144804Z
LAST-MODIFIED:20250615T201529Z
UID:54278-1760745600-1760831999@amor-catering.de
SUMMARY:Lange Nacht der Münchner Museen
DESCRIPTION:Lange Nacht der Münchner Museen – Oktober 2025\n📍 München\, verschiedene Museen und Kulturorte📅 Voraussichtlich 18. Oktober 2025\, 18:00 – 01:00 Uhr \nBei der Langen Nacht der Münchner Museen öffnen über 100 Museen\, Galerien und Kulturstätten ihre Türen für ein besonderes Kulturerlebnis bis tief in die Nacht. Von moderner Kunst über Geschichte bis hin zu Spezialausstellungen – hier können Besucher*innen die vielfältige Museumslandschaft Münchens in entspannter Atmosphäre entdecken. \nDas Event zieht jährlich rund 30.000 Kunst- und Kulturbegeisterte an\, die neben dem umfangreichen Ausstellungsangebot auch von zahlreichen Sonderaktionen\, Führungen und Live-Performances profitieren. \nHighlights: \n\n\nKulturgenuss bis spät in die Nacht (18 bis 1 Uhr) \n\n\nRund 100 teilnehmende Einrichtungen quer durch München \n\n\nSpannende Themenführungen und interaktive Angebote \n\n\nAtmosphäre der besonderen Art in der Nacht \n\n\n👉 Tipp von Amor Catering:Planst du eine exklusive Gruppenführung oder ein kulturelles Firmenevent an diesem besonderen Abend? Wir unterstützen dich gern bei der Organisation von Tickets\, Führungen oder auch Catering-Optionen rund um die Museen. \n🎟️ Tickets: Erhältlich online und an Vorverkaufsstellen (kostenpflichtig). \n🌐 Mehr Infos: muenchen.de – Lange Nacht der Museen
URL:https://amor-catering.de/event/lange-nacht-der-muenchner-museen/
LOCATION:Diverse Orte\, munich\, Germany
CATEGORIES:OKTOBER 2025
ATTACH;FMTTYPE=image/webp:https://amor-catering.de/wp-content/uploads/2024/03/210211_koenigsplatz-lange-nacht-der-museen_MarenKoehler.jpg.webp
END:VEVENT
BEGIN:VEVENT
DTSTART;VALUE=DATE:20251018
DTEND;VALUE=DATE:20251027
DTSTAMP:20260421T174030
CREATED:20240308T150125Z
LAST-MODIFIED:20250613T093240Z
UID:54288-1760745600-1761523199@amor-catering.de
SUMMARY:Auer Dult – Kirchweihdult
DESCRIPTION:Auer Dult – Kirchweihdult im Oktober\n📍 Mariahilfplatz\, München📅 Mitte bis Ende Oktober 2025 \nDie Kirchweihdult ist das traditionelle Herbst-Volksfest in München und das letzte der drei Auer Dulten im Jahr. Seit dem frühen 14. Jahrhundert ein fester Bestandteil der Stadt\, bietet das Fest eine lebendige Mischung aus Markständen\, Fahrgeschäften\, Bierzelten und kulinarischen Spezialitäten wie dem beliebten Steckerlfisch. \nDie Auer Dult findet insgesamt dreimal jährlich im Stadtteil Au statt: \n\n\nMeidult (April/Mai) \n\n\nJakobidult (Juli/August) \n\n\nKirchweihdult (Oktober) \n\n\n👉 Tipp von Amor Catering:Ideal für entspannte Firmenfeiern oder lockere Team-Events in authentischer Münchner Atmosphäre. Wir helfen gerne bei der Organisation von Gruppenreservierungen oder dem passenden Catering vor Ort. \n🎟️ Eintritt: Der Markt ist frei zugänglich. \n🌐 Weitere Infos: auerdult.de
URL:https://amor-catering.de/event/auer-dult/
LOCATION:Mariahilfplatz\, Mariahilfplatz\, 81541 Munich\, Munich\, Germany
CATEGORIES:SEPTEMBER 2025
ATTACH;FMTTYPE=image/webp:https://amor-catering.de/wp-content/uploads/2024/03/cb437be5-897c-41c9-8585-cd2980ab2c41.webp
END:VEVENT
BEGIN:VEVENT
DTSTART;VALUE=DATE:20251014
DTEND;VALUE=DATE:20251227
DTSTAMP:20260421T174030
CREATED:20240308T150557Z
LAST-MODIFIED:20250615T201612Z
UID:54289-1760400000-1766793599@amor-catering.de
SUMMARY:Saturday Night Fever @Tollwood
DESCRIPTION:Saturday Night Fever @ Tollwood (14.–26. Oktober 2025)\n📍 Theresienwiese\, München🎶 Partyfestival mit DJ-Sets & Musik – eine Reise in die 70er Jahre \nTauche ein in die bunte Welt der Disco-Ära mit dem Musical „Saturday Night Fever“\, basierend auf dem legendären Kultfilm. Erlebe mitreißende Songs\, eine spannende Story und beeindruckende Choreografien\, die dich direkt auf die Tanzfläche katapultieren. Das Musical läuft vom 14. bis 26. Oktober 2025 mit insgesamt 15 Vorstellungen im Deutschen Theater auf dem Tollwood-Gelände. \nHighlights: \n\n\n70er Jahre Disco-Feeling pur \n\n\nLegendäre Hits wie „Stayin’ Alive“ und „Night Fever“ \n\n\nAuthentische Kostüme und energiegeladene Tanzshows \n\n\nPerfekt für ausgelassene Abende mit Freunden oder Firmenevents \n\n\nPreise: \n\n\nKarten liegen je nach Kategorie zwischen ca. 30 € und 70 € \n\n\nErmäßigungen für Schüler\, Studierende und Gruppen möglich \n\n\nTickets online und an den bekannten Vorverkaufsstellen erhältlich \n\n\n👉 Tipp von Amor Catering:Wir helfen gerne bei der Buchung von Gruppenplätzen und organisieren auf Wunsch exklusive Catering-Pakete für deine Veranstaltung oder Firmenfeier im Anschluss an das Musical.
URL:https://amor-catering.de/event/saturday-tollwood/
LOCATION:Theresienwiese\, munich\, Germany
CATEGORIES:OKTOBER 2025
END:VEVENT
BEGIN:VEVENT
DTSTART;VALUE=DATE:20250801
DTEND;VALUE=DATE:20250831
DTSTAMP:20260421T174030
CREATED:20240311T173245Z
LAST-MODIFIED:20250613T095119Z
UID:54437-1754006400-1756598399@amor-catering.de
SUMMARY:Giesinger Bräu Brewpub
DESCRIPTION:🍺 Giesinger Bräu Brewpub – Innovative Münchner Braukultur & Craft Beer Tastings\n📍 Ort: Giesing\, München✨ Beschreibung:Giesinger Bräu bringt frischen Wind in die traditionsreiche Münchner Bierlandschaft. Gegründet 2005 in einer Garage\, ist die kleine Brauerei heute ein Hotspot für Craft Beer-Fans und alle\, die Neues entdecken wollen. Neben den klassischen Biersorten wie Helles\, Weizen\, Dunkel oder Märzen braut Giesinger auch ausgefallene Spezialitäten\, z.B. ein belgisches Lemondrop Triple. \nMit einer traditionellen Gasthausbrauerei und modernen Stehausschänken in verschiedenen Stadtteilen spricht Giesinger ein junges\, urbanes Publikum an\, das gerne neue Geschmackserlebnisse sucht. Ein Dokumentarfilm „Straight Outta Giesing“ erzählt humorvoll die Erfolgsgeschichte der Brauerei. \n🍻 Highlights: \n\n\nCraft Beer Tastings direkt vor Ort \n\n\nUngefilterte und saisonale Biere \n\n\nAuthentische Münchner Brauereikultur mit modernem Twist \n\n\nFilm-Premiere „Straight Outta Giesing“ für Fans und Interessierte \n\n\n🎉 Tipp von Amor Catering:Nach einem Festivalbesuch oder Event in München empfehlen wir einen Abstecher zum Giesinger Brewpub – perfekt für ein entspanntes Bier mit Freunden. Gerne unterstützen wir dich bei der Organisation von privaten Tastings oder exklusiven Gruppen-Events vor Ort.
URL:https://amor-catering.de/event/giesingerpub/
CATEGORIES:August 2025
ATTACH;FMTTYPE=image/webp:https://amor-catering.de/wp-content/uploads/2024/03/The-First-New-Brewery-in-Centuries-to-Join-Oktoberfest-FT-BLOG0924-03-f935217f727f49ffaf3088ca79f262ca-scaled.webp
END:VEVENT
BEGIN:VEVENT
DTSTART;VALUE=DATE:20250830
DTEND;VALUE=DATE:20250901
DTSTAMP:20260421T174030
CREATED:20201128T133115Z
LAST-MODIFIED:20250613T094616Z
UID:1204-1756512000-1756684799@amor-catering.de
SUMMARY:SUPERBLOOM Festival
DESCRIPTION:🎤 SUPERBLOOM Festival (voraussichtlich Ende August\, Olympiapark München)\nEvent: Großes Open-Air-Festival mit Pop- und Rock-Acts\n📍 Ort: Olympiapark\, München\n📅 Datum: Ende August 2025 (genaues Datum wird noch bekanntgegeben) \n🎵 Line-up:\nPost Malone\, Hozier\, Shawn Mendes\, Tiësto\, Bebe Rexha\, Alligatoah\, Giant Rooks\, Juli und viele mehr! \nBeschreibung:\nDas SUPERBLOOM Festival verwandelt den Olympiapark in ein riesiges Festivalgelände mit top Live-Acts aus Pop und Rock. Erlebe unvergessliche Tage voller Musik\, guter Stimmung und leckeren Food-Ständen. \n Besonderheiten: \n\nVielfältiges Food- und Getränkeangebot\nFestivalatmosphäre mitten in München\nFür alle Altersgruppen geeignet\n\n💶 Preise: \n\nTagesticket: ca. 80–120 €\nFestivalticket (mehrere Tage): ca. 150–250 €\nVIP-Tickets: ab ca. 250 € (inkl. exklusivem Zugang und Catering)\n\n🌟 VIP-Service von Amor Catering:\nWir helfen dir gerne bei der Buchung von VIP-Tickets oder der Organisation exklusiver Erlebnisse. Ob private Lounges\, Catering oder exklusive Führungen – mit Amor Catering wird dein Festivalbesuch zu etwas ganz Besonderem. \n 
URL:https://amor-catering.de/event/superbloomfestival/
LOCATION:Olympiapark\, OLYMPIAPARK & OLYMPIASTADION MÜNCHEN\, Munich\, Germany
CATEGORIES:August 2025
ATTACH;FMTTYPE=image/png:https://amor-catering.de/wp-content/uploads/2020/11/2.png
END:VEVENT
BEGIN:VEVENT
DTSTART;VALUE=DATE:20240920
DTEND;VALUE=DATE:20271006
DTSTAMP:20260421T174030
CREATED:20240311T173139Z
LAST-MODIFIED:20250613T100755Z
UID:54436-1726790400-1822780799@amor-catering.de
SUMMARY:Oktoberfest
DESCRIPTION:Oktoberfest München (20. September – 5. Oktober 2025\, Theresienwiese)\n🍺🎡🎉 Das Oktoberfest ist das größte Volksfest der Welt und eine unvergleichliche Feier bayerischer Kultur mit einer Geschichte\, die bis ins Jahr 1810 zurückreicht. Jährlich zieht es Millionen Besucher aus aller Welt an\, die auf der Theresienwiese („Wiesn“) gemeinsam die bayerische Tradition\, Musik\, Trachten\, Kulinarik und natürlich das berühmte Oktoberfestbier genießen. \nHighlights: \n\nRiesige Festzelte der sechs offiziellen Münchner Brauereien: Paulaner\, Spaten\, Augustiner\, Hacker-Pschorr\, Löwenbräu und Hofbräu. Jedes Zelt bietet eine einzigartige Atmosphäre\, z.B. das himmlische Deckendesign im Hacker-Zelt „Himmel der Bayern“.\nTypische Speisen wie Ochs am Spieß\, Hendl (Brathähnchen)\, Brezn\, Weisswürste und süße Lebkuchenherzen.\nBunte Fahrgeschäfte\, traditionelle Blasmusik und Tanz\, Trachtenmode (Dirndl & Lederhosen)\nFamilienfreundliche Stunden am Morgen\, ausgelassene Partys am Abend\n\nTermine & Öffnungszeiten: \n\n20. September bis 5. Oktober 2025\nMontag bis Freitag 10:00 – 23:30 Uhr\, Samstag und Sonntag ab 9:00 Uhr geöffnet\n\nEintritt: \n\nDer Eintritt auf das Festgelände ist frei.\nSitzplätze in den Festzelten sind oft reservierungspflichtig und stark nachgefragt. Reservierungen können bei den einzelnen Zelten oder über offizielle Ticketplattformen gebucht werden.\nPreise für Bier liegen bei ca. 15 € pro Maß (1 Liter)\nEssen kostet je nach Gericht ca. 8–20 €\n\nTipp: \n\nFrühzeitige Reservierung für einen Tisch in einem Festzelt wird empfohlen\, besonders an den Wochenenden.\nEs gibt spezielle Familienbereiche und ruhige Bereiche für entspannte Stunden.\nFür den besten Zugang empfehlen wir die Nutzung öffentlicher Verkehrsmittel (U-Bahn\, S-Bahn\, Tram).\n\n\nFalls gewünscht\, unterstützen wir bei Amor oder unser Concierge dich gerne dabei\, einen Tisch in den Zelten zu reservieren.
URL:https://amor-catering.de/event/oktoberfest/
LOCATION:Theresienwiese\, munich\, Germany
CATEGORIES:SEPTEMBER 2025
ATTACH;FMTTYPE=image/webp:https://amor-catering.de/wp-content/uploads/2024/03/A-Guide-to-Celebrating-Oktoberfest-in-Munich-FT-BLOG0724-01-5553b2c2dabd45439ff6d0c9b3059452.webp
END:VEVENT
BEGIN:VEVENT
DTSTART;VALUE=DATE:20250627
DTEND;VALUE=DATE:20250801
DTSTAMP:20260421T174030
CREATED:20201104T180631Z
LAST-MODIFIED:20250613T095506Z
UID:1739-1750982400-1754006399@amor-catering.de
SUMMARY:Munich Opera Festival
DESCRIPTION:🎭 Munich Opera Festival 2025 (bis 31. Juli) – Klassische Opern & Open-Air-Aufführungen im Nationaltheater München\n📍 Ort: Nationaltheater München\, Max-Joseph-Platz 2\, 80539 München\n📅 Zeitraum: Bis 31. Juli 2025 \n✨ Highlights: \n\nTradition seit 1875\, unter der Intendanz von Serge Dorny\nNeuproduktionen der Spielzeit\, u.a. Mozarts Don Giovanni und Faurés Pénélope\nThemenschwerpunkt: Mythen und ihr Wandel über die Jahrhunderte\nOpern wie Dido and Aeneas\, Die Liebe der Danae\, Rusalka\, Lohengrin und Das Rheingold\nDon Giovanni auch als audiovisuelle Live-Übertragung bei „Oper für alle“ am Marstallplatz\nZahlreiche Kammerkonzerte\, Barock- und Liederabende\nBallettpremiere SPHÄREN.03 | León & Lightfoot und Wiederaufnahmen des Bayerischen Staatsballetts (La Sylphide\, Romeo und Julia\, Onegin)\n\n💰 Preise: \n\nOpernkarten: ab ca. 15 € bis 120 € je nach Sitzplatzkategorie\nLive-Übertragung „Oper für alle“: kostenlos\n\n🌟 Tipp von Amor:\nWir unterstützen dich gerne bei der Reservierung von VIP-Tickets oder der Organisation exklusiver Führungen hinter die Kulissen! \n 
URL:https://amor-catering.de/event/opera-festival/
LOCATION:Nationaltheater\, Munich\, Munich\, Germany
CATEGORIES:JULI 2025
ATTACH;FMTTYPE=image/jpeg:https://amor-catering.de/wp-content/uploads/2020/11/images.jpeg
END:VEVENT
END:VCALENDAR